BEGIN:VCALENDAR
VERSION:2.0
PRODID:-//Stromen - ECPv6.15.19//NONSGML v1.0//EN
CALSCALE:GREGORIAN
METHOD:PUBLISH
X-ORIGINAL-URL:https://www.stromen.eu
X-WR-CALDESC:Evenementen voor Stromen
REFRESH-INTERVAL;VALUE=DURATION:PT1H
X-Robots-Tag:noindex
X-PUBLISHED-TTL:PT1H
BEGIN:VTIMEZONE
TZID:Europe/Helsinki
BEGIN:DAYLIGHT
TZOFFSETFROM:+0200
TZOFFSETTO:+0300
TZNAME:EEST
DTSTART:20140330T010000
END:DAYLIGHT
BEGIN:STANDARD
TZOFFSETFROM:+0300
TZOFFSETTO:+0200
TZNAME:EET
DTSTART:20141026T010000
END:STANDARD
BEGIN:DAYLIGHT
TZOFFSETFROM:+0200
TZOFFSETTO:+0300
TZNAME:EEST
DTSTART:20150329T010000
END:DAYLIGHT
BEGIN:STANDARD
TZOFFSETFROM:+0300
TZOFFSETTO:+0200
TZNAME:EET
DTSTART:20151025T010000
END:STANDARD
BEGIN:DAYLIGHT
TZOFFSETFROM:+0200
TZOFFSETTO:+0300
TZNAME:EEST
DTSTART:20160327T010000
END:DAYLIGHT
BEGIN:STANDARD
TZOFFSETFROM:+0300
TZOFFSETTO:+0200
TZNAME:EET
DTSTART:20161030T010000
END:STANDARD
BEGIN:DAYLIGHT
TZOFFSETFROM:+0200
TZOFFSETTO:+0300
TZNAME:EEST
DTSTART:20170326T010000
END:DAYLIGHT
BEGIN:STANDARD
TZOFFSETFROM:+0300
TZOFFSETTO:+0200
TZNAME:EET
DTSTART:20171029T010000
END:STANDARD
END:VTIMEZONE
BEGIN:VEVENT
DTSTART;TZID=Europe/Helsinki:20160122T193000
DTEND;TZID=Europe/Helsinki:20160122T220000
DTSTAMP:20260421T184744
CREATED:20160103T134008Z
LAST-MODIFIED:20160103T135152Z
UID:2208-1453491000-1453500000@www.stromen.eu
SUMMARY:Welke invloed heeft jouw familie nu (onbewust) nog? * 1e avond
DESCRIPTION:Hoe we ons gedragen in relatie tot anderen of zelfs wanneer we alleen zijn\, de keuzes die we in ons leven maken\, de dingen waardoor we getriggerd worden\, het zijn allemaal voorbeelden van wat het gevolg kan zijn van de plek die we bewust of onbewust in onze familie hebben ingenomen. \nZolang we ons niet bewust zijn van deze plek en wat de consequenties daarvan zijn\, blijft het ons op de een of andere manier aansturen in ons leven. \nAls je daar meer inzicht in wilt hebben (voor jezelf of voor je kind) of als je iets zou willen veranderen in je leven en dat lukt nog niet\, geef je jezelf met deze workshop echt een cadeau. \nDoe je mee? \nMeer info over deze workshop vind je hier. \nMeer info over familieopstellingen in het algemeen vind je hier.
URL:https://www.stromen.eu/activiteit/invloed-familie-nu-onbewust-familieopstelling-barendrecht-workshop/
LOCATION:A Beautiful Balance\, Muziekplein 28\, Barendrecht\, 2992 HS
END:VEVENT
BEGIN:VEVENT
DTSTART;TZID=Europe/Helsinki:20160106T133000
DTEND;TZID=Europe/Helsinki:20160106T160000
DTSTAMP:20260421T184744
CREATED:20151011T114134Z
LAST-MODIFIED:20151215T175310Z
UID:2133-1452087000-1452096000@www.stromen.eu
SUMMARY:Workshop Familieopstellingen
DESCRIPTION:Wat valt je op als je naar dit plaatje kijkt?\nZou jouw broer\, zus\, vader\, moeder\, partner\, collega\, buurman etc. hetzelfde opvallen?\nHoe komt dat eigenlijk?\nEn zou dat ook invloed hebben op hoe jij je leven (be)leeft? \n  \nEen workshop familieopstellingen is\n… een bijzondere manier om zicht te krijgen op wat onbewust je leven beïnvloedt…\n… en het vervolgens\, als je dat wilt\, eventueel te veranderen… \nDonderdag 19 november start er weer een workshop van 3 avonden. In deze workshop gaan we aan de slag met het genogram\, doen we oefeneningen en opstellingen en is er desgewenst aandacht voor de theoretische achtergrond. \nKijk hier voor meer informatie over deze workshop\, ervaringen van deelnemers en aanmelden. \nWil je meer lezen over familieopstellingen? Kijk dan hier.
URL:https://www.stromen.eu/activiteit/workshop-familieopstellingen-2/
LOCATION:A Beautiful Balance\, Muziekplein 28\, Barendrecht\, 2992 HS
END:VEVENT
BEGIN:VEVENT
DTSTART;TZID=Europe/Helsinki:20151230T140000
DTEND;TZID=Europe/Helsinki:20151230T170000
DTSTAMP:20260421T184744
CREATED:20151227T142722Z
LAST-MODIFIED:20151227T142722Z
UID:2203-1451484000-1451494800@www.stromen.eu
SUMMARY:Familieopstellingsbijeenkomst
DESCRIPTION:Op de valreep naar het nieuwe jaar heb ik\, op verzoek van een vraagsteller die op 2 januari weer naar het buitenland vertrekt\, nog spontaan een bijeenkomst voor een familieopstelling gepland. \n\nHeb jij zin en tijd om hier als representant bij aanwezig te zijn? Laat het me dan ajb even weten\, dan reken ik op je. \nEn mocht ook jij nu spontaan bedenken dat je voor jezelf een opstelling wilt doen\, dan kan dat. Er is die middag plaats voor een tweede vraagsteller. Laat het me maar weten als dat zo is. \nWarme groet\,\nEllen
URL:https://www.stromen.eu/activiteit/familieopstellingsbijeenkomst/
LOCATION:A Beautiful Balance\, Muziekplein 28\, Barendrecht\, 2992 HS
END:VEVENT
BEGIN:VEVENT
DTSTART;TZID=Europe/Helsinki:20151218T193000
DTEND;TZID=Europe/Helsinki:20151218T220000
DTSTAMP:20260421T184744
CREATED:20150907T203248Z
LAST-MODIFIED:20150914T104255Z
UID:1538-1450467000-1450476000@www.stromen.eu
SUMMARY:Persoonlijke Ontdekkingsreis
DESCRIPTION:Beweging… Niets is onveranderlijk. Dat geldt ook voor ons. We groeien voortdurend\, bewust en soms ook onbewust. \nHoe mooi zou het zijn om onszelf steeds beter te leren kennen? Om steeds bewuster in het leven te staan? \nNiet om het leven daarmee onder controle te houden\, te sturen\, maar om meer en meer te vertrouwen op onszelf en daarmee op het leven. Oftewel om meer en meer gewoon mee te durven gaan in de stroom die leven heet? \nHet leven is een constante ontdekkingsreis. Soms is het fijn om een deel van je reis samen met anderen op te lopen. Iedereen is uniek en volgt zijn eigen pad en tegelijkertijd zijn er zoveel dingen die we met elkaar gemeen hebben. Met de ene is dat dit en met de andere dat. \nDit (h)erkennen in elkaar en jezelf is vaak enorm fijn en kan je weer verder helpen op je pad. Er wordt niet voor niets gezegd dat het geheel meer is dan de som der delen. \nGA JE MEE OP DEZE ONTDEKKINGSREIS? \nWe komen 6 keer bij elkaar\, te starten op vrijdag 11 september. Iedere bijeenkomst zal een ander thema aan de orde komen\, waarbij de eerste zes chakra’s de kapstok zullen zijn.\nTussentijds instromen is mogelijk\, mits er nog plaats is. \nDe bijeenkomsten zullen een mix zijn van uitwisselen\, oefeningen\, meditatie\, creativiteit\, theorie\, familieopstellingen etc. \nKijk voor meer informatie op de Persoonlijke Ontdekkingsreis. \nJe bent van harte welkom! \nWarme groet\,\nEllen Platen / Stromen
URL:https://www.stromen.eu/activiteit/persoonlijke-ontdekkingsreis-5/
LOCATION:A Beautiful Balance\, Muziekplein 28\, Barendrecht\, 2992 HS
END:VEVENT
BEGIN:VEVENT
DTSTART;TZID=Europe/Helsinki:20151210T193000
DTEND;TZID=Europe/Helsinki:20151210T220000
DTSTAMP:20260421T184744
CREATED:20150907T203434Z
LAST-MODIFIED:20151011T114405Z
UID:1539-1449775800-1449784800@www.stromen.eu
SUMMARY:Workshop Familieopstelllingen
DESCRIPTION:Wat valt je op als je naar dit plaatje kijkt?\nZou jouw broer\, zus\, vader\, moeder\, partner\, collega\, buurman etc. hetzelfde opvallen?\nHoe komt dat eigenlijk?\nEn zou dat ook invloed hebben op hoe jij je leven (be)leeft? \n  \nEen workshop familieopstellingen is\n… een bijzondere manier om zicht te krijgen op wat onbewust je leven beïnvloedt…\n… en het vervolgens\, als je dat wilt\, eventueel te veranderen… \nDonderdag 19 november start er weer een workshop van 3 avonden. In deze workshop gaan we aan de slag met het genogram\, doen we oefeneningen en opstellingen en is er desgewenst aandacht voor de theoretische achtergrond. \nKijk hier voor meer informatie over deze workshop\, ervaringen van deelnemers en aanmelden. \nWil je meer lezen over familieopstellingen? Kijk dan hier.
URL:https://www.stromen.eu/activiteit/workshop-familieopstelllingen/
LOCATION:A Beautiful Balance\, Muziekplein 28\, Barendrecht\, 2992 HS
END:VEVENT
BEGIN:VEVENT
DTSTART;TZID=Europe/Helsinki:20151127T193000
DTEND;TZID=Europe/Helsinki:20151127T220000
DTSTAMP:20260421T184744
CREATED:20150907T203114Z
LAST-MODIFIED:20150914T104150Z
UID:1537-1448652600-1448661600@www.stromen.eu
SUMMARY:Persoonlijke Ontdekkingsreis
DESCRIPTION:Beweging… Niets is onveranderlijk. Dat geldt ook voor ons. We groeien voortdurend\, bewust en soms ook onbewust. \nHoe mooi zou het zijn om onszelf steeds beter te leren kennen? Om steeds bewuster in het leven te staan? \nNiet om het leven daarmee onder controle te houden\, te sturen\, maar om meer en meer te vertrouwen op onszelf en daarmee op het leven. Oftewel om meer en meer gewoon mee te durven gaan in de stroom die leven heet? \nHet leven is een constante ontdekkingsreis. Soms is het fijn om een deel van je reis samen met anderen op te lopen. Iedereen is uniek en volgt zijn eigen pad en tegelijkertijd zijn er zoveel dingen die we met elkaar gemeen hebben. Met de ene is dat dit en met de andere dat. \nDit (h)erkennen in elkaar en jezelf is vaak enorm fijn en kan je weer verder helpen op je pad. Er wordt niet voor niets gezegd dat het geheel meer is dan de som der delen. \nGA JE MEE OP DEZE ONTDEKKINGSREIS? \nWe komen 6 keer bij elkaar\, te starten op vrijdag 11 september. Iedere bijeenkomst zal een ander thema aan de orde komen\, waarbij de eerste zes chakra’s de kapstok zullen zijn.\nTussentijds instromen is mogelijk\, mits er nog plaats is. \nDe bijeenkomsten zullen een mix zijn van uitwisselen\, oefeningen\, meditatie\, creativiteit\, theorie\, familieopstellingen etc. \nKijk voor meer informatie op de Persoonlijke Ontdekkingsreis. \nJe bent van harte welkom! \nWarme groet\,\nEllen Platen / Stromen
URL:https://www.stromen.eu/activiteit/persoonlijke-ontdekkingsreis-4/
END:VEVENT
BEGIN:VEVENT
DTSTART;TZID=Europe/Helsinki:20151119T193000
DTEND;TZID=Europe/Helsinki:20151119T220000
DTSTAMP:20260421T184744
CREATED:20150907T201814Z
LAST-MODIFIED:20151011T120005Z
UID:1535-1447961400-1447970400@www.stromen.eu
SUMMARY:Workshop Familieopstellingen
DESCRIPTION:Wat valt je op als je naar dit plaatje kijkt?\nZou jouw broer\, zus\, vader\, moeder\, partner\, collega\, buurman etc. hetzelfde opvallen?\nHoe komt dat eigenlijk?\nEn zou dat ook invloed hebben op hoe jij je leven (be)leeft? \n  \nEen workshop familieopstellingen is\n… een bijzondere manier om zicht te krijgen op wat onbewust je leven beïnvloedt…\n… en het vervolgens\, als je dat wilt\, eventueel te veranderen… \nDonderdag 19 november start er weer een workshop van 3 avonden. In deze workshop gaan we aan de slag met het genogram\, doen we oefeneningen en opstellingen en is er desgewenst aandacht voor de theoretische achtergrond. \nKijk hier voor meer informatie over deze workshop\, ervaringen van deelnemers en aanmelden. \nWil je meer lezen over familieopstellingen? Kijk dan hier.
URL:https://www.stromen.eu/activiteit/workshop-familieopstellingen/
LOCATION:A Beautiful Balance\, Muziekplein 28\, Barendrecht\, 2992 HS
END:VEVENT
BEGIN:VEVENT
DTSTART;TZID=Europe/Helsinki:20151030T193000
DTEND;TZID=Europe/Helsinki:20151030T220000
DTSTAMP:20260421T184744
CREATED:20150907T202913Z
LAST-MODIFIED:20150914T104012Z
UID:1536-1446233400-1446242400@www.stromen.eu
SUMMARY:Persoonlijke Ontdekkingsreis
DESCRIPTION:Beweging… Niets is onveranderlijk. Dat geldt ook voor ons. We groeien voortdurend\, bewust en soms ook onbewust. \nHoe mooi zou het zijn om onszelf steeds beter te leren kennen? Om steeds bewuster in het leven te staan? \nNiet om het leven daarmee onder controle te houden\, te sturen\, maar om meer en meer te vertrouwen op onszelf en daarmee op het leven. Oftewel om meer en meer gewoon mee te durven gaan in de stroom die leven heet? \nHet leven is een constante ontdekkingsreis. Soms is het fijn om een deel van je reis samen met anderen op te lopen. Iedereen is uniek en volgt zijn eigen pad en tegelijkertijd zijn er zoveel dingen die we met elkaar gemeen hebben. Met de ene is dat dit en met de andere dat. \nDit (h)erkennen in elkaar en jezelf is vaak enorm fijn en kan je weer verder helpen op je pad. Er wordt niet voor niets gezegd dat het geheel meer is dan de som der delen. \nGA JE MEE OP DEZE ONTDEKKINGSREIS? \nWe komen 6 keer bij elkaar\, te starten op vrijdag 11 september. Iedere bijeenkomst zal een ander thema aan de orde komen\, waarbij de eerste zes chakra’s de kapstok zullen zijn.\nTussentijds instromen is mogelijk\, mits er nog plaats is. \nDe bijeenkomsten zullen een mix zijn van uitwisselen\, oefeningen\, meditatie\, creativiteit\, theorie\, familieopstellingen etc. \nKijk voor meer informatie op de Persoonlijke Ontdekkingsreis. \nJe bent van harte welkom! \nWarme groet\,\nEllen Platen / Stromen
URL:https://www.stromen.eu/activiteit/persoonlijke-ontdekkingsreis-3/
LOCATION:A Beautiful Balance\, Muziekplein 28\, Barendrecht\, 2992 HS
END:VEVENT
BEGIN:VEVENT
DTSTART;TZID=Europe/Helsinki:20151025T164500
DTEND;TZID=Europe/Helsinki:20151025T180000
DTSTAMP:20260421T184744
CREATED:20150922T094300Z
LAST-MODIFIED:20150922T100143Z
UID:2092-1445791500-1445796000@www.stromen.eu
SUMMARY:Jij & stilte\, waar sta jij?
DESCRIPTION:Het lijkt soms wel of we stilte uit ons dagelijks leven hebben verbannen. Of we zijn vergeten hoe belangrijk stilte voor ons is. Geldt dat ook voor jou? \nHoe bewuster je je bent van de waarde van stilte voor jou\, hoe bewuster je voor stilte kunt kiezen.\nHoe verhoud jij je tot stilte? En kun je de stilte ook naar je toe halen of kun je de stilte opzoeken? Hoe is het als je dat doet? \nDeze vragen zijn ons uitgangspunt vanmiddag. Wat we hiermee gaan doen blijft nog een verrassing. Wat ik wel alvast kan zeggen is dat we onder andere met een familieopstelling aan de slag gaan. \nNieuwsgierig? Kom lekker meedoen! \nTijd:\n16:45 uur – 18:00 uur \nKosten: \nEen vrijwillige bijdrage.\n25% van jouw bijdrage wordt afgedragen aan de landelijke organisatie van de Dag van de Stilte. \nLocatie:\nYoga Studio Barendrecht\nMiddenbaan 105b\n2991 CS Barendrecht \nInformatie & aanmelden:\nStromen\nEllen Platen\nTel.: 06 50737260\nMail: info@stromen.eu \nWil je deelnemen? Stuur dan even een mailtje naar info@stromen.eu
URL:https://www.stromen.eu/activiteit/jij-stilte-waar-sta-jij/
LOCATION:Yoga Studio Barendrecht\, Middenbaan 105b\, Barendrecht\, 2991 CS
END:VEVENT
BEGIN:VEVENT
DTSTART;VALUE=DATE:20151025
DTEND;VALUE=DATE:20151026
DTSTAMP:20260421T184744
CREATED:20150907T201534Z
LAST-MODIFIED:20150914T104540Z
UID:1534-1445731200-1445817599@www.stromen.eu
SUMMARY:Dag van de Stilte
DESCRIPTION:‘Stilte is universeel\, zij is van niemand en van ons allemaal. Zij verbindt mensen met elkaar\, ongeacht cultuur\, religie of politieke overtuiging.’ \nIn 2015 vindt deze dag alweer voor de 5de keer plaats en wel op zondag 25 oktober. \nMeer informatie over deze dag kun je vinden op de site van de Dag van de Stilte.\nDe activiteiten in Zuid-Holland vind je hier. \nWil je op de hoogte blijven van wetenswaardigheden omtrent deze dag? Dat kan via de Facebookpagina van de Dag van de Stilte en/of door je in te schrijven voor de Nieuwsbrief van de Dag van de Stilte. \nWil jij ook iets organiseren of meehelpen?\nMocht je zelf ook op deze dag een activiteit in Zuid-Holland willen organiseren of op organisatorisch gebied een handje willen helpen\, neem dan alsjeblieft contact met mij (Ellen Platen) op.
URL:https://www.stromen.eu/activiteit/dag-van-de-stilte/
END:VEVENT
BEGIN:VEVENT
DTSTART;TZID=Europe/Helsinki:20151001T193000
DTEND;TZID=Europe/Helsinki:20151001T220000
DTSTAMP:20260421T184744
CREATED:20150907T200916Z
LAST-MODIFIED:20150914T104049Z
UID:1533-1443727800-1443736800@www.stromen.eu
SUMMARY:Persoonlijke Ontdekkingsreis
DESCRIPTION:Beweging… Niets is onveranderlijk. Dat geldt ook voor ons. We groeien voortdurend\, bewust en soms ook onbewust. \nHoe mooi zou het zijn om onszelf steeds beter te leren kennen? Om steeds bewuster in het leven te staan? \nNiet om het leven daarmee onder controle te houden\, te sturen\, maar om meer en meer te vertrouwen op onszelf en daarmee op het leven. Oftewel om meer en meer gewoon mee te durven gaan in de stroom die leven heet? \nHet leven is een constante ontdekkingsreis. Soms is het fijn om een deel van je reis samen met anderen op te lopen. Iedereen is uniek en volgt zijn eigen pad en tegelijkertijd zijn er zoveel dingen die we met elkaar gemeen hebben. Met de ene is dat dit en met de andere dat. \nDit (h)erkennen in elkaar en jezelf is vaak enorm fijn en kan je weer verder helpen op je pad. Er wordt niet voor niets gezegd dat het geheel meer is dan de som der delen. \nGA JE MEE OP DEZE ONTDEKKINGSREIS? \nWe komen 6 keer bij elkaar\, te starten op vrijdag 11 september. Iedere bijeenkomst zal een ander thema aan de orde komen\, waarbij de eerste zes chakra’s de kapstok zullen zijn.\nTussentijds instromen is mogelijk\, mits er nog plaats is. \nDe bijeenkomsten zullen een mix zijn van uitwisselen\, oefeningen\, meditatie\, creativiteit\, theorie\, familieopstellingen etc. \nKijk voor meer informatie op de Persoonlijke Ontdekkingsreis. \nJe bent van harte welkom! \nWarme groet\,\nEllen Platen / Stromen
URL:https://www.stromen.eu/activiteit/persoonlijke-ontdekkingsreis-2/
LOCATION:A Beautiful Balance\, Muziekplein 28\, Barendrecht\, 2992 HS
END:VEVENT
BEGIN:VEVENT
DTSTART;TZID=Europe/Helsinki:20150911T193000
DTEND;TZID=Europe/Helsinki:20150911T220000
DTSTAMP:20260421T184744
CREATED:20150905T172925Z
LAST-MODIFIED:20150914T103829Z
UID:1103-1441999800-1442008800@www.stromen.eu
SUMMARY:Persoonlijke Ontdekkingsreis
DESCRIPTION:Beweging… Niets is onveranderlijk. Dat geldt ook voor ons. We groeien voortdurend\, bewust en soms ook onbewust. \nHoe mooi zou het zijn om onszelf steeds beter te leren kennen? Om steeds bewuster in het leven te staan? \nNiet om het leven daarmee onder controle te houden\, te sturen\, maar om meer en meer te vertrouwen op onszelf en daarmee op het leven. Oftewel om meer en meer gewoon mee te durven gaan in de stroom die leven heet? \nHet leven is een constante ontdekkingsreis. Soms is het fijn om een deel van je reis samen met anderen op te lopen. Iedereen is uniek en volgt zijn eigen pad en tegelijkertijd zijn er zoveel dingen die we met elkaar gemeen hebben. Met de ene is dat dit en met de andere dat. \nDit (h)erkennen in elkaar en jezelf is vaak enorm fijn en kan je weer verder helpen op je pad. Er wordt niet voor niets gezegd dat het geheel meer is dan de som der delen. \nGA JE MEE OP DEZE ONTDEKKINGSREIS? \nWe komen 6 keer bij elkaar\, te starten op vrijdag 11 september. Iedere bijeenkomst zal een ander thema aan de orde komen\, waarbij de eerste zes chakra’s de kapstok zullen zijn.\nTussentijds instromen is mogelijk\, mits er nog plaats is. \nDe bijeenkomsten zullen een mix zijn van uitwisselen\, oefeningen\, meditatie\, creativiteit\, theorie\, familieopstellingen etc. \nKijk voor meer informatie op de Persoonlijke Ontdekkingsreis. \nJe bent van harte welkom! \nWarme groet\,\nEllen Platen / Stromen
URL:https://www.stromen.eu/activiteit/persoonlijke-ontdekkingsreis/
LOCATION:A Beautiful Balance\, Muziekplein 28\, Barendrecht\, 2992 HS
END:VEVENT
END:VCALENDAR